BEGIN:VCALENDAR
VERSION:2.0
PRODID:-//Tukios.com/
BEGIN:VEVENT
UID:1f785395-2d60-4407-88da-9a1de9af6a95@www.hultgrenfh.com
DTSTAMP:20260424T205654Z
DTSTART:20260430T210000Z
DTEND:20260501T010000Z
SUMMARY:Visitation
DESCRIPTION:
URL:https://www.hultgrenfh.com/obituaries/susan-callahan
LOCATION:Hultgren Funeral Home 304 N Main St  Wheaton IL 60187
GEO:41.8676146;-88.1070324
END:VEVENT
END:VCALENDAR