BEGIN:VCALENDAR
VERSION:2.0
PRODID:-//Tukios.com/
BEGIN:VEVENT
UID:be207c2d-1956-47e9-bbd7-fe1a51716df4@www.hultgrenfh.com
DTSTAMP:20260424T205747Z
DTSTART:20260430T204500Z
DTEND:20260430T214500Z
SUMMARY:Memorial Service
DESCRIPTION:
URL:https://www.hultgrenfh.com/obituaries/susan-callahan
LOCATION:Hultgren Funeral Home 304 N Main St  Wheaton IL 60187
GEO:41.8676146;-88.1070324
END:VEVENT
END:VCALENDAR