BEGIN:VCALENDAR
VERSION:2.0
PRODID:-//Tukios.com/
BEGIN:VEVENT
UID:62bcaae8-b8e9-453a-b28b-443520cdf872@www.hultgrenfh.com
DTSTAMP:20260425T194958Z
DTSTART:20260425T173000Z
DTEND:20260425T183000Z
SUMMARY:Celebration of Life
DESCRIPTION:
URL:https://www.hultgrenfh.com/obituaries/donna-mangrum
LOCATION: 565 Randy Rd  Carol Stream IL 60188
GEO:41.9071213;-88.1025196
END:VEVENT
END:VCALENDAR