BEGIN:VCALENDAR
VERSION:2.0
PRODID:-//Tukios.com/
BEGIN:VEVENT
UID:203d8440-c8fb-4a76-9850-5925d1b20729@www.hultgrenfh.com
DTSTAMP:20260425T174433Z
DTSTART:20260516T000000Z
DTEND:20260516T010000Z
SUMMARY:Prayer Service
DESCRIPTION:
URL:https://www.hultgrenfh.com/obituaries/david-schramer
LOCATION:Hultgren Funeral Home 304 N Main St  Wheaton IL 60187
GEO:41.8676146;-88.1070324
END:VEVENT
END:VCALENDAR