BEGIN:VCALENDAR
VERSION:2.0
PRODID:-//Tukios.com/
BEGIN:VEVENT
UID:1e802326-5eb2-4d41-aa57-c0f37bee6066@www.hultgrenfh.com
DTSTAMP:20260423T043231Z
DTSTART:20260427T153000Z
DTEND:20260427T163000Z
SUMMARY:Funeral Mass
DESCRIPTION:
URL:https://www.hultgrenfh.com/obituaries/chris-fernandez
LOCATION: 0S233 Church St  Winfield IL 60190
GEO:41.8675643;-88.1565217
END:VEVENT
END:VCALENDAR