BEGIN:VCALENDAR
VERSION:2.0
PRODID:-//Tukios.com/
BEGIN:VEVENT
UID:e77d6d69-449b-4b1c-8060-94e63d57ba99@www.hultgrenfh.com
DTSTAMP:20260423T043231Z
DTSTART:20260426T200000Z
DTEND:20260426T220000Z
SUMMARY:Visitation
DESCRIPTION:
URL:https://www.hultgrenfh.com/obituaries/chris-fernandez
LOCATION:Hultgren Funeral Home 304 N Main St  Wheaton IL 60187
GEO:41.8676146;-88.1070324
END:VEVENT
END:VCALENDAR